BEGIN:VCALENDAR
VERSION:2.0
PRODID:-//Büyük İstanbul Otogarı - ECPv6.0.10//NONSGML v1.0//EN
CALSCALE:GREGORIAN
METHOD:PUBLISH
X-ORIGINAL-URL:https://buyukistanbulotogari.ist
X-WR-CALDESC:Büyük İstanbul Otogarı için etkinlikler
REFRESH-INTERVAL;VALUE=DURATION:PT1H
X-Robots-Tag:noindex
X-PUBLISHED-TTL:PT1H
BEGIN:VTIMEZONE
TZID:Europe/Istanbul
BEGIN:STANDARD
TZOFFSETFROM:+0300
TZOFFSETTO:+0300
TZNAME:+03
DTSTART:20210101T000000
END:STANDARD
END:VTIMEZONE
BEGIN:VEVENT
DTSTART;TZID=Europe/Istanbul:20221029T200000
DTEND;TZID=Europe/Istanbul:20221029T210000
DTSTAMP:20260419T185601
CREATED:20221125T101424Z
LAST-MODIFIED:20221125T101424Z
UID:4000-1667073600-1667077200@buyukistanbulotogari.ist
SUMMARY:CUMHURİYET BAYRAMI PROGRAMI
DESCRIPTION:Kapalı Çarşı İstasyon binası içerisinde ‘Atatürk Fotoğrafları Sergisi’ ile başlayan program ‘Otogar Fener Alayı’ ile devam etti. Fener Alayına çevre misafirlerinin ve Otogar Paydaşlarının katılımı yoğundu. \nArdından Programın açılış konuşmalarının İBB Meclisi Grup Başkanvekili Av. Sayın İsmail Doğan Subaşı ve Boğaziçi Yönetim A.Ş Genel Müdürü Sayın Ethem Pişkin\, selamlama konuşmalarıyla gerçekleştirdi. \n19.00’da ise çoğunluğunu Otogar Paydaşlarımızın oluşturduğu 2 değerli TRT sanatçısının katılımıyla desteklenen ‘Otogar Değerleri Müzik Topluluğu Cumhuriyet Konseri’ ile sona erdi.
URL:https://buyukistanbulotogari.ist/etkinlik/cumhuriyet-bayrami-programi/
ATTACH;FMTTYPE=image/jpeg:https://buyukistanbulotogari.ist/wp-content/uploads/2022/11/IMG_1225.jpg
END:VEVENT
BEGIN:VEVENT
DTSTART;TZID=Europe/Istanbul:20220930T200000
DTEND;TZID=Europe/Istanbul:20220930T210000
DTSTAMP:20260419T185601
CREATED:20221125T101139Z
LAST-MODIFIED:20221125T101139Z
UID:3997-1664568000-1664571600@buyukistanbulotogari.ist
SUMMARY:KATILIM KAFE
DESCRIPTION:İstanbul Kent Konseyi tarafından her ay İstanbul’un farklı bir ilçesinde yapılan halka açık toplantı ‘Katılım Kafe’ bu ay Büyük İstanbul Otogarı’nda gerçekleşti. \nMuhtarlar ve gençler başta olmak üzere Esenler ve Bayrampaşa’da yaşayan İstanbulluların\, Otogar paydaşlarımızın katılımı ile gerçekleşen toplantıda;  ortak akılla İstanbula dair sorunlar ve alternatif çözümleri konuşuldu. \nKent Konseyi Başkanı Sayın Tülin Hadi’nin açılış konuşmasının ardından Otogar İşletme Müdürümüz Fahrettin Beşli; Otogarın İstanbul için önemini ve seyrüseferini anlattı. \nİlçelerin gündem ve sorunlarını\, kentsel ihtiyaçları ve kamusal alanlarına erişim olanaklarını birlikte değerlendirilen ortak\, katılımcı fikir üretim ortamından verimli çıktılar elde edildi.
URL:https://buyukistanbulotogari.ist/etkinlik/katilim-kafe/
ATTACH;FMTTYPE=image/jpeg:https://buyukistanbulotogari.ist/wp-content/uploads/2022/11/IMG_0621.jpg
END:VEVENT
BEGIN:VEVENT
DTSTART;TZID=Europe/Istanbul:20220909T200000
DTEND;TZID=Europe/Istanbul:20220909T210000
DTSTAMP:20260419T185601
CREATED:20221125T100806Z
LAST-MODIFIED:20221125T100806Z
UID:3994-1662753600-1662757200@buyukistanbulotogari.ist
SUMMARY:3’NCÜ YIL DÖNÜMÜ ETKİNLİKLERİ
DESCRIPTION:Büyük İstanbul Otogarı’nın İstanbul Büyükşehir Belediyesi’ne devrinin 3. yıldönümü coşkuyla kutlandı. \nKutlama programında Ressam İsmet Bilen’in Sergisi\, 3 yıllık süreci özetleyen sunum gerçekleşti. \nİstanbul Şarkıları ile Kanun ve Ud Dinletisi; Nevin Şahin-Nilüfer Kıran\, İstanbul’un Zarif Hanımları Kibar Beyleri panelinde ise; Prof. Dr. Evren Kutlay\, Meri Çevik Simyonidis\, Şefika Özgen Eren\, Kadriye Olgar ve Nuray Marçak anlatımlarıyla programı renklendirdi. \nArdından programımız 3. yılın Enleri’ne anmalık verilmesi\, Modacı Aydın Göynü ’nün ‘Kelebek Etkisi’ defilesi ve İBB Halk Müziği Orkestrası konseri ile sona erdi.
URL:https://buyukistanbulotogari.ist/etkinlik/3ncu-yil-donumu-etkinlikleri/
ATTACH;FMTTYPE=image/jpeg:https://buyukistanbulotogari.ist/wp-content/uploads/2022/11/DJI_0014.jpg
END:VEVENT
BEGIN:VEVENT
DTSTART;TZID=Europe/Istanbul:20220906T200000
DTEND;TZID=Europe/Istanbul:20220906T210000
DTSTAMP:20260419T185601
CREATED:20221125T095911Z
LAST-MODIFIED:20221125T095911Z
UID:3991-1662494400-1662498000@buyukistanbulotogari.ist
SUMMARY:DÜŞEŞ TAVLA TURNUVASI
DESCRIPTION:Büyük İstanbul Otogarı ‘Düşeş Tavla Turnuvasını’ gerçekleştirildi. \nKapalı Çarşı (İstasyon Binası) orta sahanlıkta başlayan turnuvaya\, yarışmacıların ve Otogar paydaşlarının ilgisi yoğundu. \n2 gün boyunca devam eden turnuva yarı final ve final müsabakalarıyla tamamlanarak 1.2.3. yarışmacılar belirlendi.
URL:https://buyukistanbulotogari.ist/etkinlik/duses-tavla-turnuvasi/
ATTACH;FMTTYPE=image/jpeg:https://buyukistanbulotogari.ist/wp-content/uploads/2022/11/WhatsApp-Image-2022-11-16-at-11.55.13-1.jpg
END:VEVENT
BEGIN:VEVENT
DTSTART;TZID=Europe/Istanbul:20220708T200000
DTEND;TZID=Europe/Istanbul:20220708T210000
DTSTAMP:20260419T185601
CREATED:20221125T095433Z
LAST-MODIFIED:20221125T095433Z
UID:3988-1657310400-1657314000@buyukistanbulotogari.ist
SUMMARY:23 NİSAN RESİM SERGİSİ
DESCRIPTION:23 Nisan Çocuk Karnavalındaki Boğaziçi Yönetim standında\, miniklerimiz tarafından boyanan resimlerin sergisi açıldı. \nİBB Meclisi Grup Başkanvekili Doğan Subaşı\, Boğaziçi Yönetim AŞ Genel Müdürü Ethem Pişkin\, Büyük İstanbul Otogarı İşletme Müdürü Fahrettin Beşli\, aileler ve esnafın katıldığı açılışta\, miniklerin birbirinden güzel boyama çalışmaları gözlemlendi. Açılışın ardından ise bayramlaşıldı. \nBüyük İstanbul Otogarı Fuaye Alanında bir görsel şölen sunan sergi 29 Temmuz 2022’ye kadar ziyarete açık olarak kaldı.
URL:https://buyukistanbulotogari.ist/etkinlik/23-nisan-resim-sergisi/
ATTACH;FMTTYPE=image/jpeg:https://buyukistanbulotogari.ist/wp-content/uploads/2022/11/23-nisan-resim-boyama-sergisi-4.jpg
END:VEVENT
BEGIN:VEVENT
DTSTART;TZID=Europe/Istanbul:20220603T200000
DTEND;TZID=Europe/Istanbul:20220603T210000
DTSTAMP:20260419T185601
CREATED:20221125T094405Z
LAST-MODIFIED:20221125T094405Z
UID:3983-1654286400-1654290000@buyukistanbulotogari.ist
SUMMARY:CAFE DE ŞAMAROĞLU 5. OYUN
DESCRIPTION:Büyük İstanbul Otogarı’nda ‘Cafe De Şamaroğlu’ tiyatrosu gelen yoğun istek ve beğeni üzerine 5. Kez izleyicisiyle buluştu. \nOtogarda\, kültür ve sanat faaliyetlerimiz kapsamında Hasan Ali Yücel sahnesinde içerisinde Otogar esnafının da bulunduğu tiyatro ekibi izleyiciyle buluşarak misafirlerimize keyif dolu dakikalar yaşattı.
URL:https://buyukistanbulotogari.ist/etkinlik/cafe-de-samaroglu-5-oyun/
ATTACH;FMTTYPE=image/jpeg:https://buyukistanbulotogari.ist/wp-content/uploads/2022/11/IMG_3269.jpg
END:VEVENT
BEGIN:VEVENT
DTSTART;TZID=Europe/Istanbul:20220603T080000
DTEND;TZID=Europe/Istanbul:20220605T170000
DTSTAMP:20260419T185601
CREATED:20221125T094915Z
LAST-MODIFIED:20221125T094915Z
UID:3985-1654243200-1654448400@buyukistanbulotogari.ist
SUMMARY:TÜRKİYE OTOGAR YÖNETİMİ ÇALIŞTAYI
DESCRIPTION:Otogar Yönetimi Çalıştayı\, Büyük İstanbul Otogarı’nın dönüşümüne ve Çalıştay’ın amacına dair bilgi alışverişi yapılarak başladı. \nGünün ikinci yarısında ise Büyük İstanbul Otogarı’nın işleyişi için emek veren birimler\, tamirhane ve alt katların yanı sıra dönüşümün en önemli yansıması olan sosyal ve kültürel alanlar gezildi. Gün; müzik dinletisi ve tiyatro ile sona erdi. \nİkinci günde ise Büyük İstanbul Otogarı’nın asayiş ve güvenliğini sağlayan tüm birimlerin katılımıyla “Otogarda Asayiş ve Güvenlik” konusunun işlenmesiyle başladı. Güvenilir ortam konusunda yaşanan gelişim tüm detaylarıyla aktarıldı. \nSon gün ise Sektörün gelişimi için bu buluşmaların artırılmasına karar verilirken\, katılımcılara Boğaziçi Yönetim AŞ Genel Müdürü Ethem Pişkin ve Büyük İstanbul Otogarı İşletme Müdürü Fahrettin Beşli tarafından anmalık ile içerisi özel armağanlarla dolu Büyük İstanbul Otogarı hatırası tahta bavul takdim edildi.
URL:https://buyukistanbulotogari.ist/etkinlik/turkiye-otogar-yonetimi-calistayi/
ATTACH;FMTTYPE=image/jpeg:https://buyukistanbulotogari.ist/wp-content/uploads/2022/11/21-8.jpg
END:VEVENT
BEGIN:VEVENT
DTSTART;TZID=Europe/Istanbul:20220519T200000
DTEND;TZID=Europe/Istanbul:20220519T210000
DTSTAMP:20260419T185601
CREATED:20221125T094241Z
LAST-MODIFIED:20221125T094241Z
UID:3981-1652990400-1652994000@buyukistanbulotogari.ist
SUMMARY:CAFE DE ŞAMAROĞLU 4. OYUN
DESCRIPTION:Büyük İstanbul Otogarı’nda ‘Cafe De Şamaroğlu’ tiyatrosu gelen yoğun istek ve beğeni üzerine 4. Kez izleyicisiyle buluştu. \nOtogarda\, kültür ve sanat faaliyetlerimiz kapsamında Hasan Ali Yücel sahnesinde içerisinde Otogar esnafının da bulunduğu tiyatro ekibi izleyiciyle buluşarak misafirlerimize keyif dolu dakikalar yaşattı.
URL:https://buyukistanbulotogari.ist/etkinlik/cafe-de-samaroglu-4-oyun/
ATTACH;FMTTYPE=image/jpeg:https://buyukistanbulotogari.ist/wp-content/uploads/2022/11/IMG_3269.jpg
END:VEVENT
BEGIN:VEVENT
DTSTART;TZID=Europe/Istanbul:20220308T200000
DTEND;TZID=Europe/Istanbul:20220308T210000
DTSTAMP:20260419T185601
CREATED:20221125T094136Z
LAST-MODIFIED:20221125T094136Z
UID:3979-1646769600-1646773200@buyukistanbulotogari.ist
SUMMARY:CAFE DE ŞAMAROĞLU 3. OYUN
DESCRIPTION:Büyük İstanbul Otogarı’nda ‘Cafe De Şamaroğlu’ tiyatrosu gelen yoğun istek ve beğeni üzerine 3. Kez izleyicisiyle buluştu. \nOtogarda\, kültür ve sanat faaliyetlerimiz kapsamında Hasan Ali Yücel sahnesinde içerisinde Otogar esnafının da bulunduğu tiyatro ekibi izleyiciyle buluşarak misafirlerimize keyif dolu dakikalar yaşattı.
URL:https://buyukistanbulotogari.ist/etkinlik/cafe-de-samaroglu-3-oyun/
ATTACH;FMTTYPE=image/jpeg:https://buyukistanbulotogari.ist/wp-content/uploads/2022/11/IMG_3269.jpg
END:VEVENT
BEGIN:VEVENT
DTSTART;TZID=Europe/Istanbul:20220308T200000
DTEND;TZID=Europe/Istanbul:20220308T210000
DTSTAMP:20260419T185601
CREATED:20221125T093924Z
LAST-MODIFIED:20221125T093924Z
UID:3977-1646769600-1646773200@buyukistanbulotogari.ist
SUMMARY:DÜNYA KADINLAR GÜNÜ ETKİNLİĞİ
DESCRIPTION:Büyük İstanbul Otogarı’nda 8 Mart Dünya Kadınlar Günü Anma ve Kutlama Programı gerçekleştirildi. \nKutlama programı Pınar Gürsoy’un resim sergisiyle başlayarak Tango dans gösterimi ile devam etti. Ardından program Sanatçı Emel Ülüş\, Heykeltraş Cansu Sönmez\, Neyzen Burcu Karadağ ve Yazar İlknur Bektaş’ın katıldığı “Kadın ve Sanat” temalı panele sürdü. Çeşitli bölge ve illerden gelen kutlama videolarının gösterimi ile program sona erdi.
URL:https://buyukistanbulotogari.ist/etkinlik/dunya-kadinlar-gunu-etkinligi/
END:VEVENT
BEGIN:VEVENT
DTSTART;TZID=Europe/Istanbul:20220205T200000
DTEND;TZID=Europe/Istanbul:20220205T210000
DTSTAMP:20260419T185601
CREATED:20221125T093754Z
LAST-MODIFIED:20221125T093754Z
UID:3975-1644091200-1644094800@buyukistanbulotogari.ist
SUMMARY:CAFE DE ŞAMAROĞLU İKİNCİ OYUN
DESCRIPTION:Büyük İstanbul Otogarı’nda ‘Cafe De Şamaroğlu’ tiyatrosu gelen yoğun istek ve beğeni üzerine 2. Kez izleyicisiyle buluştu. \nOtogarda\, kültür ve sanat faaliyetlerimiz kapsamında Hasan Ali Yücel sahnesinde içerisinde Otogar esnafının da bulunduğu tiyatro ekibi izleyiciyle buluşarak misafirlerimize keyif dolu dakikalar yaşattı.
URL:https://buyukistanbulotogari.ist/etkinlik/cafe-de-samaroglu-ikinci-oyun/
ATTACH;FMTTYPE=image/jpeg:https://buyukistanbulotogari.ist/wp-content/uploads/2022/11/IMG_3269.jpg
END:VEVENT
BEGIN:VEVENT
DTSTART;TZID=Europe/Istanbul:20220205T200000
DTEND;TZID=Europe/Istanbul:20220205T210000
DTSTAMP:20260419T185601
CREATED:20221125T093556Z
LAST-MODIFIED:20221125T093556Z
UID:3972-1644091200-1644094800@buyukistanbulotogari.ist
SUMMARY:ÇOCUKLAR GERİ DÖNÜŞÜM ATÖLYESİ
DESCRIPTION:Çocuklar Büyük İstanbul Otogarı’nda Geri Dönüşüm Atölyesiyle buluştu. Evde kullanılmayan eşyalarını yanına alan çocuklar ‘Geri Dönüşüm Atölyesi’ etkinliğimize katılarak yeteneklerini ve hayal güçlerini ortaya koydular. \nİSTAÇ iş birliği ile birlikte ilk kez gerçekleştirilen projede 7-12 yaş grubu arasındaki çocuklar Geri Dönüşüm Atölyesindeki malzemelerle oyuncak\, saksı\, kedi evleri\, otobüs ve çeşit çeşit hayal dünyalarındakileri eğlence ortamlarına kattılar. Ürettikleri ürünler sergimizde herkese gösterilerek çocuklara geleceğimiz için geri dönüşümün önemi anlatıldı.
URL:https://buyukistanbulotogari.ist/etkinlik/cocuklar-geri-donusum-atolyesi/
ATTACH;FMTTYPE=image/jpeg:https://buyukistanbulotogari.ist/wp-content/uploads/2022/11/IMG_0360.jpg
END:VEVENT
BEGIN:VEVENT
DTSTART;TZID=Europe/Istanbul:20220129T200000
DTEND;TZID=Europe/Istanbul:20220129T210000
DTSTAMP:20260419T185601
CREATED:20221125T092006Z
LAST-MODIFIED:20221125T092006Z
UID:3969-1643486400-1643490000@buyukistanbulotogari.ist
SUMMARY:CAFE DE ŞAMAROĞLU İLK OYUN
DESCRIPTION:Büyük İstanbul Otogarı’nda ‘Cafe De Şamaroğlu’ oyunu tiyatro izleyicisiyle buluştu. \nOtogarda\, kültür ve sanat faaliyetlerimiz kapsamında Hasan Ali Yücel sahnesinde içerisinde Otogar esnafının da bulunduğu tiyatro ekibi izleyiciyle buluşarak misafirlerimize keyif dolu dakikalar yaşattı.
URL:https://buyukistanbulotogari.ist/etkinlik/cafe-de-samaroglu-ilk-oyun/
ATTACH;FMTTYPE=image/jpeg:https://buyukistanbulotogari.ist/wp-content/uploads/2022/11/IMG_3269.jpg
END:VEVENT
BEGIN:VEVENT
DTSTART;TZID=Europe/Istanbul:20220114T200000
DTEND;TZID=Europe/Istanbul:20220114T210000
DTSTAMP:20260419T185601
CREATED:20221125T091723Z
LAST-MODIFIED:20221125T091723Z
UID:3967-1642190400-1642194000@buyukistanbulotogari.ist
SUMMARY:ENERJİ VERİMLİLİĞİ HAFTASI PROGRAMI
DESCRIPTION:Büyük İstanbul Otogarı’nda; Enerji Verimliliği Haftası kapsamında farkındalık ve bilgilendirme programı tertip edildi. \nKonferansta enerjinin etkin kullanılması\, israfının önlenmesi\, enerji maliyetlerinin ekonomi üzerindeki yükünün hafifletilmesi ve çevrenin korunması için enerji kaynaklarının ve enerjinin kullanımında verimliliğin artırılması yönündeki bilgiler aktardı. Konferans sonrasında\, Büyük İstanbul Otogarı genelinde enerji tasarrufu için atılacak birtakım adımlar belirlendi.
URL:https://buyukistanbulotogari.ist/etkinlik/enerji-verimliligi-haftasi-programi/
END:VEVENT
BEGIN:VEVENT
DTSTART;TZID=Europe/Istanbul:20211217T200000
DTEND;TZID=Europe/Istanbul:20211217T210000
DTSTAMP:20260419T185601
CREATED:20221125T091347Z
LAST-MODIFIED:20221125T091347Z
UID:3964-1639771200-1639774800@buyukistanbulotogari.ist
SUMMARY:KÖY ENSTİTÜLERİ VE HASAN ÂLİ YÜCEL’İ ANMA PROGRAMI
DESCRIPTION:Büyük İstanbul Otogarı’nın sosyal ve kültürel faaliyetlerinin bir diğer halkasını\, Hasan Âli Yücel’i ve Köy Enstitüleri’ni anma programı olarak gerçekleşti. \nEğitim reformundan çok\, çağdaşlaşma ve kalkınma hamlesinin temellerini atan Köy Enstitülerini\, gündeme alıp yeniden konuşulmasını\, hatıralarının dinlenmesine\, ruhunun ve özünün yakalanmasına gayret edildi.
URL:https://buyukistanbulotogari.ist/etkinlik/koy-enstituleri-ve-hasan-ali-yuceli-anma-programi/
ATTACH;FMTTYPE=image/jpeg:https://buyukistanbulotogari.ist/wp-content/uploads/2022/11/IMG_9495.jpg
END:VEVENT
BEGIN:VEVENT
DTSTART;TZID=Europe/Istanbul:20211116T040000
DTEND;TZID=Europe/Istanbul:20211116T130000
DTSTAMP:20260419T185601
CREATED:20201116T115144Z
LAST-MODIFIED:20201116T115144Z
UID:1427-1637035200-1637067600@buyukistanbulotogari.ist
SUMMARY:Taking Your Startup to The Next Level
DESCRIPTION:Sed ut perspiciatis unde omnis iste natus error sit voluptatem accusantium doloremque laudantium\, totam rem aperiam\, eaque ipsa quae ab illo. \nSed ut perspiciatis unde omnis iste natus error sit voluptatem accusantium doloremque laudantium\, totam rem aperiam\, eaque ipsa quae ab illo inventore veritatis et quasi architecto beatae vitae dicta sunt explicabo. Nemo enim ipsam voluptatem quia voluptas sit aspernatur aut odit aut fugit\, sed quia consequuntur magni dolores eos qui ratione voluptatem sequi nesciunt.
URL:https://buyukistanbulotogari.ist/etkinlik/taking-your-startup-to-the-next-level/
LOCATION:New York\, 8 King Street\, Queens\, NY\, United States
CATEGORIES:Seminars
ATTACH;FMTTYPE=:
ORGANIZER;CN="Gary%20Jones":MAILTO:info@demo.com
END:VEVENT
BEGIN:VEVENT
DTSTART;TZID=Europe/Istanbul:20211116T040000
DTEND;TZID=Europe/Istanbul:20211116T130000
DTSTAMP:20260419T185601
CREATED:20201116T115053Z
LAST-MODIFIED:20201116T115053Z
UID:1426-1637035200-1637067600@buyukistanbulotogari.ist
SUMMARY:The new startup is on the way
DESCRIPTION:Sed ut perspiciatis unde omnis iste natus error sit voluptatem accusantium doloremque laudantium\, totam rem aperiam\, eaque ipsa quae ab illo. \nSed ut perspiciatis unde omnis iste natus error sit voluptatem accusantium doloremque laudantium\, totam rem aperiam\, eaque ipsa quae ab illo inventore veritatis et quasi architecto beatae vitae dicta sunt explicabo. Nemo enim ipsam voluptatem quia voluptas sit aspernatur aut odit aut fugit\, sed quia consequuntur magni dolores eos qui ratione voluptatem sequi nesciunt.
URL:https://buyukistanbulotogari.ist/etkinlik/the-new-startup-is-on-the-way/
LOCATION:New York\, 8 King Street\, Queens\, NY\, United States
CATEGORIES:Seminars
ATTACH;FMTTYPE=:
ORGANIZER;CN="Gary%20Jones":MAILTO:info@demo.com
END:VEVENT
BEGIN:VEVENT
DTSTART;TZID=Europe/Istanbul:20211116T040000
DTEND;TZID=Europe/Istanbul:20211116T130000
DTSTAMP:20260419T185601
CREATED:20201116T115002Z
LAST-MODIFIED:20201116T115002Z
UID:1425-1637035200-1637067600@buyukistanbulotogari.ist
SUMMARY:Consulting Business Credit Building
DESCRIPTION:Sed ut perspiciatis unde omnis iste natus error sit voluptatem accusantium doloremque laudantium\, totam rem aperiam\, eaque ipsa quae ab illo. \nSed ut perspiciatis unde omnis iste natus error sit voluptatem accusantium doloremque laudantium\, totam rem aperiam\, eaque ipsa quae ab illo inventore veritatis et quasi architecto beatae vitae dicta sunt explicabo. Nemo enim ipsam voluptatem quia voluptas sit aspernatur aut odit aut fugit\, sed quia consequuntur magni dolores eos qui ratione voluptatem sequi nesciunt.
URL:https://buyukistanbulotogari.ist/etkinlik/consulting-business-credit-building/
LOCATION:New York\, 8 King Street\, Queens\, NY\, United States
CATEGORIES:Seminars
ATTACH;FMTTYPE=:
ORGANIZER;CN="Gary%20Jones":MAILTO:info@demo.com
END:VEVENT
BEGIN:VEVENT
DTSTART;TZID=Europe/Istanbul:20211110T095500
DTEND;TZID=Europe/Istanbul:20211110T103000
DTSTAMP:20260419T185601
CREATED:20221125T065736Z
LAST-MODIFIED:20221125T065736Z
UID:3960-1636538100-1636540200@buyukistanbulotogari.ist
SUMMARY:ATATÜRK’ÜN ANMA PROGRAMI
DESCRIPTION:83 yıl evvel ebediyete intikal eden Atatürk; vefat yıldönümünde Büyük İstanbul Otogarı’nda İBB ve kamu birimlerinin katılımı ile saygıyla anıldı. \nAtatürk’ün naçiz vücudu toprak olsa da\, Türkiye Cumhuriyeti ile birlikte milletimizin gönlündeki yeri ilelebet payidar kalacağı vurgulandı.
URL:https://buyukistanbulotogari.ist/etkinlik/ataturkun-anma-programi/
ATTACH;FMTTYPE=image/jpeg:https://buyukistanbulotogari.ist/wp-content/uploads/2022/11/IMG_7258.jpg
END:VEVENT
BEGIN:VEVENT
DTSTART;TZID=Europe/Istanbul:20211029T200000
DTEND;TZID=Europe/Istanbul:20211029T210000
DTSTAMP:20260419T185601
CREATED:20221125T064009Z
LAST-MODIFIED:20221125T064009Z
UID:3957-1635537600-1635541200@buyukistanbulotogari.ist
SUMMARY:29 EKİM CUMHURİYET BAYRAMI ETKİNLİKLERİ
DESCRIPTION:Büyük İstanbul Otogarı’nda 29 Ekim Cumhuriyet Bayramı etkinliği coşkuyla kutlandı. Otogarda Cumhuriyet Bayramı etkinliği ‘Az Bilinen Atatürk Fotoğrafları Sergisi’ ile başladı. \nArdından ‘Otogar Fener Alayı’ ile devam eden etkinliğimiz ‘Cumhuriyet Konseri’ ile son buldu. Programımıza Otogar esnafının ve vatandaşlarımızın ilgisi yoğundu.
URL:https://buyukistanbulotogari.ist/etkinlik/29-ekim-cumhuriyet-bayrami-etkinlikleri/
ATTACH;FMTTYPE=image/jpeg:https://buyukistanbulotogari.ist/wp-content/uploads/2022/11/20211029_190557.jpg
END:VEVENT
BEGIN:VEVENT
DTSTART;TZID=Europe/Istanbul:20210909T200000
DTEND;TZID=Europe/Istanbul:20210909T210000
DTSTAMP:20260419T185601
CREATED:20221123T151923Z
LAST-MODIFIED:20221124T135706Z
UID:3867-1631217600-1631221200@buyukistanbulotogari.ist
SUMMARY:2. YIL DÖNÜMÜ ETKİNLİKLERİ
DESCRIPTION:Büyük İstanbul Otogarı’nın İstanbul Büyükşehir Belediyesi’ne devrinin 2. Yıl dönümü coşkuyla kutlandı. \nKutlama programında 2 yıllık süreci özetleyen sunumumuz\, ‘2 yılın Enleri ’ne anmalık verilmesi\, M.K.Perker Karikatür Sergisi ve Paneli\, Grup Oba’nın “Tahta Bavul” konseri yer aldı.
URL:https://buyukistanbulotogari.ist/etkinlik/2-yil-donumu-etkinlikleri/
ATTACH;FMTTYPE=image/jpeg:https://buyukistanbulotogari.ist/wp-content/uploads/2022/11/IMG_4117.jpg
END:VEVENT
BEGIN:VEVENT
DTSTART;TZID=Europe/Istanbul:20210530T040000
DTEND;TZID=Europe/Istanbul:20210530T130000
DTSTAMP:20260419T185601
CREATED:20201116T114542Z
LAST-MODIFIED:20201116T114542Z
UID:1417-1622347200-1622379600@buyukistanbulotogari.ist
SUMMARY:Small Business Saturday Workshop
DESCRIPTION:Sed ut perspiciatis unde omnis iste natus error sit voluptatem accusantium doloremque laudantium\, totam rem aperiam\, eaque ipsa quae ab illo. \nSed ut perspiciatis unde omnis iste natus error sit voluptatem accusantium doloremque laudantium\, totam rem aperiam\, eaque ipsa quae ab illo inventore veritatis et quasi architecto beatae vitae dicta sunt explicabo. Nemo enim ipsam voluptatem quia voluptas sit aspernatur aut odit aut fugit\, sed quia consequuntur magni dolores eos qui ratione voluptatem sequi nesciunt.
URL:https://buyukistanbulotogari.ist/etkinlik/small-business-saturday-workshop/
LOCATION:New York\, 8 King Street\, Queens\, NY\, United States
CATEGORIES:Seminars
ATTACH;FMTTYPE=:
ORGANIZER;CN="Gary%20Jones":MAILTO:info@demo.com
END:VEVENT
END:VCALENDAR